BEGIN:VCALENDAR
VERSION:2.0
PRODID:-//atelier tokimeki - ECPv6.15.20//NONSGML v1.0//EN
CALSCALE:GREGORIAN
METHOD:PUBLISH
X-ORIGINAL-URL:https://ateliertokimeki.com/en
X-WR-CALDESC:Events for atelier tokimeki
REFRESH-INTERVAL;VALUE=DURATION:PT1H
X-Robots-Tag:noindex
X-PUBLISHED-TTL:PT1H
BEGIN:VTIMEZONE
TZID:Europe/Paris
BEGIN:DAYLIGHT
TZOFFSETFROM:+0100
TZOFFSETTO:+0200
TZNAME:CEST
DTSTART:20230326T010000
END:DAYLIGHT
BEGIN:STANDARD
TZOFFSETFROM:+0200
TZOFFSETTO:+0100
TZNAME:CET
DTSTART:20231029T010000
END:STANDARD
BEGIN:DAYLIGHT
TZOFFSETFROM:+0100
TZOFFSETTO:+0200
TZNAME:CEST
DTSTART:20240331T010000
END:DAYLIGHT
BEGIN:STANDARD
TZOFFSETFROM:+0200
TZOFFSETTO:+0100
TZNAME:CET
DTSTART:20241027T010000
END:STANDARD
BEGIN:DAYLIGHT
TZOFFSETFROM:+0100
TZOFFSETTO:+0200
TZNAME:CEST
DTSTART:20250330T010000
END:DAYLIGHT
BEGIN:STANDARD
TZOFFSETFROM:+0200
TZOFFSETTO:+0100
TZNAME:CET
DTSTART:20251026T010000
END:STANDARD
END:VTIMEZONE
BEGIN:VEVENT
DTSTART;TZID=Europe/Paris:20240917T120000
DTEND;TZID=Europe/Paris:20240917T140000
DTSTAMP:20260420T175536
CREATED:20240820T101154Z
LAST-MODIFIED:20241004T101422Z
UID:2284-1726574400-1726581600@ateliertokimeki.com
SUMMARY:Atelier privé
DESCRIPTION:« All Events \nDèmystification de la mèthode Marie Kondo\nSeptember 17\, 2024\n@\n12:00\n–\n14:00\n \n** Atelier privé\, sur invitation  ** \nVenez apprendre l’essence du rangement à la japonaise avec une consultante certifiée KonMari™. \nDans cet atelier phare\, je partage que: \n\nLe rangement s’apprend — je vous montre mes propres photos “avant”\nLa méthode Marie Kondo n’est probablement pas ce que vous imaginez\nVos chaussettes sont malheureuses et comment les chouchouter\n\nJe vous explique les bases de la méthode Marie Kondo qui m’a libéré de la culpabilité\, confusion et stagnation\, et m’a permis de ranger une fois pour toutes. Vous aussi\, vous arriverez créer une maison et une vie pleines de joie. \nL’atelier comprend une démonstration de pliage. Je vous invite à amener 2-3 vêtements (T-shirt\, chaussettes\, etc.) que je vous apprendrai à plier. \nDétails\nDate :\nMardi\, Septembre 17\, 2024 \nHeure :\n12:00 – 14:00 \nVenue\nSaint-Julien-en-Genevois\, France\nAddress:\nSaint-Julien-en-Genevois\, France\n+ Google Map \n  \n\n\n\n\nAdd to calendar \n  \n\nGoogle Calendar\niCalendar\nOutlook 365\nOutlook Live\n\n\n\n\nTidy Toddlers: le rangement et les tout-petits \n\nDémystification de la méthode Marie Kondo \n\n\nInscription\nRegistration
URL:https://ateliertokimeki.com/en/evenement/20240917-atelier-prive/
LOCATION:Saint-Julien-en-Genevois\, France\, Saint-Julien-en-Genevois\, France
ATTACH;FMTTYPE=image/webp:https://ateliertokimeki.com/wp-content/uploads/2024/10/livres-Marie-Kondo-min.webp
END:VEVENT
BEGIN:VEVENT
DTSTART;TZID=Europe/Paris:20240917T190000
DTEND;TZID=Europe/Paris:20240917T210000
DTSTAMP:20260420T175536
CREATED:20240821T062058Z
LAST-MODIFIED:20241004T101359Z
UID:2444-1726599600-1726606800@ateliertokimeki.com
SUMMARY:Le rangement à la japonaise
DESCRIPTION:« All Events \nLe rangement à la japonaise\n17 September 2024\n|\n19:00\n—\n21:00 \n€30 \n \nVenez apprendre l’essence du rangement à la japonaise avec une consultante certifiée KonMari™. \nDans cet atelier phare\, je partage que: \n\nLe rangement s’apprend — je vous montre mes propres photos “avant”\nLa méthode Marie Kondo n’est probablement pas ce que vous imaginez\nVos chaussettes sont malheureuses et comment les chouchouter\n\nJe vous explique les bases de la méthode Marie Kondo qui m’a libéré de la culpabilité\, confusion et stagnation\, et m’a permis de ranger une fois pour toutes. Vous aussi\, vous arriverez créer une maison et une vie pleines de joie. \nL’atelier comprend une démonstration de pliage. Je vous invite à amener 2-3 vêtements (T-shirt\, chaussettes\, etc.) que je vous apprendrai à plier. \n\nInscrivez-vous\n \nDétails\nDate :\nMardi\, 17 septembre 2024 \nHeure :\n19:00 – 21:00 \nOrganisateur\nMAYANI Yoga\nView Organizer Website \nVenue\nMAYANI Yoga\nAddress:\n6 Grande rueFerney-Voltaire\,\n01210\nFrance \n\n+ Google Map \n  \nView Venue Website \n\n\n\n\nAdd to calendar \n  \n\nGoogle Calendar\niCalendar\nOutlook 365\nOutlook Live\n\n\n\n\nAtelier privé \n\nDémystification de la méthode Marie Kondo
URL:https://ateliertokimeki.com/en/evenement/20240917-mayani/
LOCATION:MAYANI Yoga\, 6 Grande rue\, Ferney-Voltaire\, 01210\, France
ATTACH;FMTTYPE=image/webp:https://ateliertokimeki.com/wp-content/uploads/2024/10/livres-Marie-Kondo-min.webp
END:VEVENT
END:VCALENDAR