BEGIN:VCALENDAR
VERSION:2.0
PRODID:-//atelier tokimeki - ECPv6.15.20//NONSGML v1.0//EN
CALSCALE:GREGORIAN
METHOD:PUBLISH
X-WR-CALNAME:atelier tokimeki
X-ORIGINAL-URL:https://ateliertokimeki.com
X-WR-CALDESC:Évènements pour atelier tokimeki
REFRESH-INTERVAL;VALUE=DURATION:PT1H
X-Robots-Tag:noindex
X-PUBLISHED-TTL:PT1H
BEGIN:VTIMEZONE
TZID:Europe/Paris
BEGIN:DAYLIGHT
TZOFFSETFROM:+0100
TZOFFSETTO:+0200
TZNAME:CEST
DTSTART:20230326T010000
END:DAYLIGHT
BEGIN:STANDARD
TZOFFSETFROM:+0200
TZOFFSETTO:+0100
TZNAME:CET
DTSTART:20231029T010000
END:STANDARD
BEGIN:DAYLIGHT
TZOFFSETFROM:+0100
TZOFFSETTO:+0200
TZNAME:CEST
DTSTART:20240331T010000
END:DAYLIGHT
BEGIN:STANDARD
TZOFFSETFROM:+0200
TZOFFSETTO:+0100
TZNAME:CET
DTSTART:20241027T010000
END:STANDARD
BEGIN:DAYLIGHT
TZOFFSETFROM:+0100
TZOFFSETTO:+0200
TZNAME:CEST
DTSTART:20250330T010000
END:DAYLIGHT
BEGIN:STANDARD
TZOFFSETFROM:+0200
TZOFFSETTO:+0100
TZNAME:CET
DTSTART:20251026T010000
END:STANDARD
END:VTIMEZONE
BEGIN:VEVENT
DTSTART;TZID=Europe/Paris:20241107T183000
DTEND;TZID=Europe/Paris:20241107T200000
DTSTAMP:20260420T131139
CREATED:20240920T123857Z
LAST-MODIFIED:20241004T101154Z
UID:2643-1731004200-1731009600@ateliertokimeki.com
SUMMARY:Vivre en harmonie avec les Yôkai
DESCRIPTION:« All Events \nVivre en harmonie avec les Yôkai\n7 November 2024\n|\n18:30\n—\n20:00\n \nSuite au succès de notre collaboration au Japan Impact 2024\, Yasuka (midnight blossom) et moi sommes ravies de vous présenter cette conférence à Genève. \nLes Yôkai sont des créatures mystérieuses du folklore japonais\, souvent espiègles mais parfois bienveillantes\, qui peuplent les légendes et\, qui sait\, peut-être aussi votre foyer. Visibles ou invisibles\, les Yôkai influencent notre quotidien de manière subtile. Venez explorer leur univers et apprenez comment vivre en harmonie avec eux. Préparez-vous à une conférence captivante qui vous fera voir votre environnement sous un tout nouveau jour ! \nDétails\nDate :\nJeudi\, 7 novembre 2024 \nHeure :\n18:30 — 20:00 \nVenue\nIkigai – Manga Shop\nAddress:\nRue des Pâquis 4B \nGenève\,\n1201\nSwitzerland \n+ Google Map \n  \nView Venue Website \n\n\n\n\nAdd to calendar \n \n\nGoogle Calendar\niCalendar\nOutlook 365\nOutlook Live\n\n\n\n\n人生がときめく片づけの魔法 \n\nCours de pliage Marie Kondo
URL:https://ateliertokimeki.com/evenement/20241107-ikigai/
LOCATION:Ikigai – Manga Shop\, Rue des Pâquis 4B\, Genève\, 1201\, Switzerland
ATTACH;FMTTYPE=image/webp:https://ateliertokimeki.com/wp-content/uploads/2024/09/23093685_m-1.webp
END:VEVENT
END:VCALENDAR