BEGIN:VCALENDAR
VERSION:2.0
PRODID:-//atelier tokimeki - ECPv6.15.20//NONSGML v1.0//EN
CALSCALE:GREGORIAN
METHOD:PUBLISH
X-ORIGINAL-URL:https://ateliertokimeki.com
X-WR-CALDESC:Évènements pour atelier tokimeki
REFRESH-INTERVAL;VALUE=DURATION:PT1H
X-Robots-Tag:noindex
X-PUBLISHED-TTL:PT1H
BEGIN:VTIMEZONE
TZID:Europe/Paris
BEGIN:DAYLIGHT
TZOFFSETFROM:+0100
TZOFFSETTO:+0200
TZNAME:CEST
DTSTART:20240331T010000
END:DAYLIGHT
BEGIN:STANDARD
TZOFFSETFROM:+0200
TZOFFSETTO:+0100
TZNAME:CET
DTSTART:20241027T010000
END:STANDARD
BEGIN:DAYLIGHT
TZOFFSETFROM:+0100
TZOFFSETTO:+0200
TZNAME:CEST
DTSTART:20250330T010000
END:DAYLIGHT
BEGIN:STANDARD
TZOFFSETFROM:+0200
TZOFFSETTO:+0100
TZNAME:CET
DTSTART:20251026T010000
END:STANDARD
BEGIN:DAYLIGHT
TZOFFSETFROM:+0100
TZOFFSETTO:+0200
TZNAME:CEST
DTSTART:20260329T010000
END:DAYLIGHT
BEGIN:STANDARD
TZOFFSETFROM:+0200
TZOFFSETTO:+0100
TZNAME:CET
DTSTART:20261025T010000
END:STANDARD
END:VTIMEZONE
BEGIN:VEVENT
DTSTART;TZID=Europe/Paris:20250329T100000
DTEND;TZID=Europe/Paris:20250329T130000
DTSTAMP:20260420T071810
CREATED:20250318T105631Z
LAST-MODIFIED:20250318T105631Z
UID:3281-1743242400-1743253200@ateliertokimeki.com
SUMMARY:Démonstration de pliage Marie Kondo
DESCRIPTION:Venez apprendre la célèbre méthode de pliage de Marie Kondo. Je vous donne également des conseils pour optimiser le rangement chez vous.
URL:https://ateliertokimeki.com/evenement/demonstration-de-pliage-marie-kondo/
LOCATION:UNIQLO Annecy\, Nouvelles Galeries\, 25 Av. du Parmelan\, Annecy\, 74000\, France
ATTACH;FMTTYPE=image/png:https://ateliertokimeki.com/wp-content/uploads/2025/03/uniqlo-e1742295276291.png
END:VEVENT
END:VCALENDAR