BEGIN:VCALENDAR
VERSION:2.0
PRODID:-//atelier tokimeki - ECPv6.15.20//NONSGML v1.0//EN
CALSCALE:GREGORIAN
METHOD:PUBLISH
X-WR-CALNAME:atelier tokimeki
X-ORIGINAL-URL:https://ateliertokimeki.com
X-WR-CALDESC:Évènements pour atelier tokimeki
REFRESH-INTERVAL;VALUE=DURATION:PT1H
X-Robots-Tag:noindex
X-PUBLISHED-TTL:PT1H
BEGIN:VTIMEZONE
TZID:Europe/Paris
BEGIN:DAYLIGHT
TZOFFSETFROM:+0100
TZOFFSETTO:+0200
TZNAME:CEST
DTSTART:20230326T010000
END:DAYLIGHT
BEGIN:STANDARD
TZOFFSETFROM:+0200
TZOFFSETTO:+0100
TZNAME:CET
DTSTART:20231029T010000
END:STANDARD
BEGIN:DAYLIGHT
TZOFFSETFROM:+0100
TZOFFSETTO:+0200
TZNAME:CEST
DTSTART:20240331T010000
END:DAYLIGHT
BEGIN:STANDARD
TZOFFSETFROM:+0200
TZOFFSETTO:+0100
TZNAME:CET
DTSTART:20241027T010000
END:STANDARD
BEGIN:DAYLIGHT
TZOFFSETFROM:+0100
TZOFFSETTO:+0200
TZNAME:CEST
DTSTART:20250330T010000
END:DAYLIGHT
BEGIN:STANDARD
TZOFFSETFROM:+0200
TZOFFSETTO:+0100
TZNAME:CET
DTSTART:20251026T010000
END:STANDARD
END:VTIMEZONE
BEGIN:VEVENT
DTSTART;TZID=Europe/Paris:20241009T200000
DTEND;TZID=Europe/Paris:20241009T213000
DTSTAMP:20260420T131253
CREATED:20240821T062928Z
LAST-MODIFIED:20241004T101335Z
UID:2453-1728504000-1728509400@ateliertokimeki.com
SUMMARY:Le rangement à la japonaise
DESCRIPTION:« All Events \nLe rangement à la japonaise\n9 October 2024\n|\n20:00\n—\n21:30 \n€15 \n \nVenez apprendre l’essence du rangement à la japonaise avec une consultante certifiée KonMari™. \nDans cet atelier phare\, je partage que: \n\nLe rangement s’apprend — je vous montre mes propres photos “avant”\nLa méthode Marie Kondo n’est probablement pas ce que vous imaginez\nVos chaussettes sont malheureuses et comment les chouchouter\n\nJe vous explique les bases de la méthode Marie Kondo qui m’a libéré de la culpabilité\, confusion et stagnation\, et m’a permis de ranger une fois pour toutes. Vous aussi\, vous arriverez créer une maison et une vie pleines de joie. \nL’atelier comprend une démonstration de pliage. Je vous invite à amener 2-3 vêtements (T-shirt\, chaussettes\, etc.) que je vous apprendrai à plier. \nTARIFS – membres de l’Association Sophro Rire Santé: 15€ / non membre: 20€ \nMerci de vous inscrire au préalable en contactant Clarisse Mansouri (06.13.14.39.34) ou en écrivant à sophroriresante@gmail.com \n\nInscrivez-vous\n \nDétails\nDate :\nMercredi\, 9 octobre 2024 \nHeure :\n20:00 – 21:30 \nOrganisateur\nAssociation Sophro Rire Santé\nView Organizer Website \nVenue\nSalle Polyvalente René Lavergne\nAddress:\nOrnex\,\n01210\nFrance\n+ Google Map \n  \n\n\n\n\nAdd to calendar \n \n\nGoogle Calendar\niCalendar\nOutlook 365\nOutlook Live\n\n\n\n\nLe rangement à la japonaise \n\nDémystification de la méthode Marie Kondo
URL:https://ateliertokimeki.com/evenement/20241012-sophroriresante/
LOCATION:Salle Polyvalente René Lavergne\, Ornex\, 01210\, France
ATTACH;FMTTYPE=image/webp:https://ateliertokimeki.com/wp-content/uploads/2024/10/livres-Marie-Kondo-min.webp
END:VEVENT
BEGIN:VEVENT
DTSTART;TZID=Europe/Paris:20241012T093000
DTEND;TZID=Europe/Paris:20241012T110000
DTSTAMP:20260420T131253
CREATED:20240821T064427Z
LAST-MODIFIED:20241004T101310Z
UID:2471-1728725400-1728730800@ateliertokimeki.com
SUMMARY:Démystification de la méthode Marie Kondo
DESCRIPTION:« All Events \nDémystification de la méthode Marie Kondo\n12 October 2024\n|\n09:30\n—\n11:00 \n€8 \n \nVenez apprendre l’essence du rangement à la japonaise avec une consultante certifiée KonMari™. \nDans cet atelier phare\, je partage que: \n\nLe rangement s’apprend — je vous montre mes propres photos “avant”\nLa méthode Marie Kondo n’est probablement pas ce que vous imaginez\nVos chaussettes sont malheureuses et comment les chouchouter\n\nJe vous explique les bases de la méthode Marie Kondo qui m’a libéré de la culpabilité\, confusion et stagnation\, et m’a permis de ranger une fois pour toutes. Vous aussi\, vous arriverez créer une maison et une vie pleines de joie. \nL’atelier comprend une démonstration de pliage. Je vous invite à amener 2-3 vêtements (T-shirt\, chaussettes\, etc.) que je vous apprendrai à plier. \nPrix :-tarif spécial pour les adhérents de l’association Centre Japon-Annecy :  8 euros par personne (enfants et adultes)-tarifs pour les personnes non-adherentes  : 10 euros par personne Comment s’inscrire  : Merci de nous faire parvenir votre demande d’inscription par email à l’association  centrejaponannecy@gmail.com. Mode de paiement : le paiement se fera uniquement sur place\, en chèque ou en espèce\, au moment de la conférence\, auprès des membres de l’association organisatrice de l’événement. \nDétails\nDate :\nSamedi\, Octobre 12\, 2024 \nHeure :\n09:30 – 11:00 \nOrganisateur\nCentre Japon-Annecy\nView Organizer Website \nVenue\nMaison Aussedat\nAddress:\n7 Rue de la ProvidenceAnnecy\,\n74000\nFrance \n\n+ Google Map \n  \n\n\n\n\nAdd to calendar \n  \n\nGoogle Calendar\niCalendar\nOutlook 365\nOutlook Live\n\n\n\n\nLe rangement à la japonaise \n\n人生がときめく片づけの魔法
URL:https://ateliertokimeki.com/evenement/20241012-annecy-fr/
LOCATION:Maison Aussedat\, 7 Rue de la Providence\, Annecy\, 74000\, France
ATTACH;FMTTYPE=image/webp:https://ateliertokimeki.com/wp-content/uploads/2024/10/livres-Marie-Kondo-min.webp
END:VEVENT
BEGIN:VEVENT
DTSTART;TZID=Europe/Paris:20241012T113000
DTEND;TZID=Europe/Paris:20241012T130000
DTSTAMP:20260420T131253
CREATED:20240902T084356Z
LAST-MODIFIED:20241004T101233Z
UID:2608-1728732600-1728738000@ateliertokimeki.com
SUMMARY:人生がときめく片づけの魔法
DESCRIPTION:« All Events \n人生がときめく片づけの魔法\n12 October 2024\n|\n11:30\n—\n13:00 \n€8 \n \n近藤麻理恵さんの著書、「人生がときめく片づけの魔法」の本は４０か国以上に翻訳され、世界的ベストセラーになりました。この貴重な機会にこんまりメソッドを習得して私たちもときめく生活を実現しましょう。講義者、斎藤百合はこんまり流片づけコンサルタントの正式な資格をお持ちでいらっしゃいます。 \n料金：アソシエーション会員料金　お一人様　８ユーロ　（子供、大人すべて）\n非会員料金　お一人様　１０ユーロ \n申し込み方法：当アソシエーション迄メールにてお申し込みください。centrejaponannecy@gmail.com \nお支払い方法：当日会場にて現金または小切手 \nDétails\nDate :\nSamedi\, Octobre 12\, 2024 \nHeure :\n09:30 – 11:30 \nOrganisateur\nCentre Japon-Annecy\nView Organizer Website \nVenue\nMaison Aussedat\nAddress:\n7 Rue de la Providence \nAnnecy\,\n74000\nFrance \n+ Google Map \n  \n\n\n\n\nAdd to calendar \n \n\nGoogle Calendar\niCalendar\nOutlook 365\nOutlook Live\n\n\n\n\nDémystification de la méthode Marie Kondo \n\nVivre en harmonie avec les Yôkai \n\n\nInscription
URL:https://ateliertokimeki.com/evenement/20241012-annecy-jp/
LOCATION:Maison Aussedat\, 7 Rue de la Providence\, Annecy\, 74000\, France
ATTACH;FMTTYPE=image/webp:https://ateliertokimeki.com/wp-content/uploads/2024/10/livres-Marie-Kondo-min.webp
END:VEVENT
END:VCALENDAR