BEGIN:VCALENDAR
VERSION:2.0
PRODID:-//atelier tokimeki - ECPv6.15.20//NONSGML v1.0//EN
CALSCALE:GREGORIAN
METHOD:PUBLISH
X-WR-CALNAME:atelier tokimeki
X-ORIGINAL-URL:https://ateliertokimeki.com
X-WR-CALDESC:Évènements pour atelier tokimeki
REFRESH-INTERVAL;VALUE=DURATION:PT1H
X-Robots-Tag:noindex
X-PUBLISHED-TTL:PT1H
BEGIN:VTIMEZONE
TZID:Europe/Paris
BEGIN:DAYLIGHT
TZOFFSETFROM:+0100
TZOFFSETTO:+0200
TZNAME:CEST
DTSTART:20240331T010000
END:DAYLIGHT
BEGIN:STANDARD
TZOFFSETFROM:+0200
TZOFFSETTO:+0100
TZNAME:CET
DTSTART:20241027T010000
END:STANDARD
BEGIN:DAYLIGHT
TZOFFSETFROM:+0100
TZOFFSETTO:+0200
TZNAME:CEST
DTSTART:20250330T010000
END:DAYLIGHT
BEGIN:STANDARD
TZOFFSETFROM:+0200
TZOFFSETTO:+0100
TZNAME:CET
DTSTART:20251026T010000
END:STANDARD
BEGIN:DAYLIGHT
TZOFFSETFROM:+0100
TZOFFSETTO:+0200
TZNAME:CEST
DTSTART:20260329T010000
END:DAYLIGHT
BEGIN:STANDARD
TZOFFSETFROM:+0200
TZOFFSETTO:+0100
TZNAME:CET
DTSTART:20261025T010000
END:STANDARD
END:VTIMEZONE
BEGIN:VEVENT
DTSTART;TZID=Europe/Paris:20250117T190000
DTEND;TZID=Europe/Paris:20250117T200000
DTSTAMP:20260420T085133
CREATED:20250109T111318Z
LAST-MODIFIED:20250109T122507Z
UID:3250-1737140400-1737144000@ateliertokimeki.com
SUMMARY:Soirée de Présentation des Ateliers Mayani
DESCRIPTION:Je serai présente à la soirée de présentation des ateliers 2025 de Mayani. Je vous présenterai en quelques mots le thème de l’atelier que je donne en mai et répondrai à toutes vos questions. Tout cela\, autour d’un verre\, dans la joie et la bonne humeur\, comme d’habitude !
URL:https://ateliertokimeki.com/evenement/soiree-de-presentation-des-ateliers-mayani/
LOCATION:MAYANI Yoga\, 6 Grande rue\, Ferney-Voltaire\, 01210\, France
ATTACH;FMTTYPE=image/jpeg:https://ateliertokimeki.com/wp-content/uploads/2025/01/pexels-photo-4865519-4865519-scaled.jpg
END:VEVENT
END:VCALENDAR